BEGIN:VCALENDAR
VERSION:2.0
PRODID:-//Littleport Badminton Club - ECPv6.15.20//NONSGML v1.0//EN
CALSCALE:GREGORIAN
METHOD:PUBLISH
X-ORIGINAL-URL:https://www.littleport-badminton.co.uk
X-WR-CALDESC:Events for Littleport Badminton Club
REFRESH-INTERVAL;VALUE=DURATION:PT1H
X-Robots-Tag:noindex
X-PUBLISHED-TTL:PT1H
BEGIN:VTIMEZONE
TZID:Europe/London
BEGIN:DAYLIGHT
TZOFFSETFROM:+0000
TZOFFSETTO:+0100
TZNAME:BST
DTSTART:20230326T010000
END:DAYLIGHT
BEGIN:STANDARD
TZOFFSETFROM:+0100
TZOFFSETTO:+0000
TZNAME:GMT
DTSTART:20231029T010000
END:STANDARD
BEGIN:DAYLIGHT
TZOFFSETFROM:+0000
TZOFFSETTO:+0100
TZNAME:BST
DTSTART:20240331T010000
END:DAYLIGHT
BEGIN:STANDARD
TZOFFSETFROM:+0100
TZOFFSETTO:+0000
TZNAME:GMT
DTSTART:20241027T010000
END:STANDARD
BEGIN:DAYLIGHT
TZOFFSETFROM:+0000
TZOFFSETTO:+0100
TZNAME:BST
DTSTART:20250330T010000
END:DAYLIGHT
BEGIN:STANDARD
TZOFFSETFROM:+0100
TZOFFSETTO:+0000
TZNAME:GMT
DTSTART:20251026T010000
END:STANDARD
END:VTIMEZONE
BEGIN:VEVENT
DTSTART;TZID=Europe/London:20241031T200000
DTEND;TZID=Europe/London:20241031T220000
DTSTAMP:20260422T023436
CREATED:20240924T083325Z
LAST-MODIFIED:20240924T083325Z
UID:595-1730404800-1730412000@www.littleport-badminton.co.uk
SUMMARY:Club Night
DESCRIPTION:
URL:https://www.littleport-badminton.co.uk/event/club-night-9/
LOCATION:Littleport Leisure\, Camel Road\, Littleport\, Cambridgeshirte\, CB6 1EW\, United Kingdom
CATEGORIES:Club Night
END:VEVENT
BEGIN:VEVENT
DTSTART;TZID=Europe/London:20241024T200000
DTEND;TZID=Europe/London:20241024T220000
DTSTAMP:20260422T023436
CREATED:20240924T083324Z
LAST-MODIFIED:20240924T083324Z
UID:594-1729800000-1729807200@www.littleport-badminton.co.uk
SUMMARY:Club Night
DESCRIPTION:
URL:https://www.littleport-badminton.co.uk/event/club-night-8/
LOCATION:Littleport Leisure\, Camel Road\, Littleport\, Cambridgeshirte\, CB6 1EW\, United Kingdom
CATEGORIES:Club Night
END:VEVENT
BEGIN:VEVENT
DTSTART;TZID=Europe/London:20241017T200000
DTEND;TZID=Europe/London:20241017T220000
DTSTAMP:20260422T023436
CREATED:20240924T083324Z
LAST-MODIFIED:20240924T083324Z
UID:593-1729195200-1729202400@www.littleport-badminton.co.uk
SUMMARY:Club Night
DESCRIPTION:
URL:https://www.littleport-badminton.co.uk/event/club-night-7/
LOCATION:Littleport Leisure\, Camel Road\, Littleport\, Cambridgeshirte\, CB6 1EW\, United Kingdom
CATEGORIES:Club Night
END:VEVENT
BEGIN:VEVENT
DTSTART;TZID=Europe/London:20241010T200000
DTEND;TZID=Europe/London:20241010T220000
DTSTAMP:20260422T023436
CREATED:20240924T083324Z
LAST-MODIFIED:20240924T083324Z
UID:592-1728590400-1728597600@www.littleport-badminton.co.uk
SUMMARY:Club Night
DESCRIPTION:
URL:https://www.littleport-badminton.co.uk/event/club-night-6/
LOCATION:Littleport Leisure\, Camel Road\, Littleport\, Cambridgeshirte\, CB6 1EW\, United Kingdom
CATEGORIES:Club Night
END:VEVENT
BEGIN:VEVENT
DTSTART;TZID=Europe/London:20241003T200000
DTEND;TZID=Europe/London:20241003T220000
DTSTAMP:20260422T023436
CREATED:20240924T083322Z
LAST-MODIFIED:20240924T083322Z
UID:591-1727985600-1727992800@www.littleport-badminton.co.uk
SUMMARY:Club Night
DESCRIPTION:
URL:https://www.littleport-badminton.co.uk/event/club-night-5/
LOCATION:Littleport Leisure\, Camel Road\, Littleport\, Cambridgeshirte\, CB6 1EW\, United Kingdom
CATEGORIES:Club Night
END:VEVENT
BEGIN:VEVENT
DTSTART;TZID=Europe/London:20240926T200000
DTEND;TZID=Europe/London:20240926T220000
DTSTAMP:20260422T023436
CREATED:20240924T083321Z
LAST-MODIFIED:20240924T083321Z
UID:590-1727380800-1727388000@www.littleport-badminton.co.uk
SUMMARY:Club Night
DESCRIPTION:
URL:https://www.littleport-badminton.co.uk/event/club-night-4/
LOCATION:Littleport Leisure\, Camel Road\, Littleport\, Cambridgeshirte\, CB6 1EW\, United Kingdom
CATEGORIES:Club Night
END:VEVENT
BEGIN:VEVENT
DTSTART;TZID=Europe/London:20240919T200000
DTEND;TZID=Europe/London:20240919T220000
DTSTAMP:20260422T023436
CREATED:20240924T083321Z
LAST-MODIFIED:20240924T083321Z
UID:589-1726776000-1726783200@www.littleport-badminton.co.uk
SUMMARY:Club Night
DESCRIPTION:
URL:https://www.littleport-badminton.co.uk/event/club-night-3/
LOCATION:Littleport Leisure\, Camel Road\, Littleport\, Cambridgeshirte\, CB6 1EW\, United Kingdom
CATEGORIES:Club Night
END:VEVENT
BEGIN:VEVENT
DTSTART;TZID=Europe/London:20240912T200000
DTEND;TZID=Europe/London:20240912T220000
DTSTAMP:20260422T023436
CREATED:20240924T083321Z
LAST-MODIFIED:20240924T083321Z
UID:588-1726171200-1726178400@www.littleport-badminton.co.uk
SUMMARY:Club Night
DESCRIPTION:
URL:https://www.littleport-badminton.co.uk/event/club-night-2/
LOCATION:Littleport Leisure\, Camel Road\, Littleport\, Cambridgeshirte\, CB6 1EW\, United Kingdom
CATEGORIES:Club Night
END:VEVENT
BEGIN:VEVENT
DTSTART;TZID=Europe/London:20240905T200000
DTEND;TZID=Europe/London:20240905T220000
DTSTAMP:20260422T023436
CREATED:20240924T083320Z
LAST-MODIFIED:20240924T083320Z
UID:587-1725566400-1725573600@www.littleport-badminton.co.uk
SUMMARY:Club Night
DESCRIPTION:
URL:https://www.littleport-badminton.co.uk/event/club-night/
LOCATION:Littleport Leisure\, Camel Road\, Littleport\, Cambridgeshirte\, CB6 1EW\, United Kingdom
CATEGORIES:Club Night
END:VEVENT
END:VCALENDAR